BEGIN:VCALENDAR
VERSION:2.0
PRODID:-//eventon.com NONSGML v1.0//EN
CALSCALE:GREGORIAN
METHOD:PUBLISH
BEGIN:VEVENT
UID:69e51d27d1a86
DTSTAMP:20260419T182127Z
DTSTART:20210615T150000Z
DTEND:20210615T160000Z
LOCATION:Remote
SUMMARY:An Inside View into Bristol Myers Squibb Global Contact Center Operations
DESCRIPTION:Hosted by: Council Member Christopher Keenan\,  Head\,  Worldwi
 de Medical Customer Engagement\,  Medical Capabilities\,  Bristol Myers Squ
 ibb Council Member Cathy Marino\,  Senior Director\,  Customer Care\,  Bris
 tol Myers Squibb Nishale Patel\,  Worldwide Medical Customer Engagement Bus
 iness Operations\,  Bristol Myers Squibb Brendan Collins\,  Lead WW Omnicha
 nnel Capabilities\,  Contact Center\,  Bristol Myers Squibb Agenda:[..]\nht
 tps://customerleadershipcouncil.com/events/customer-contact-centre-tour-bri
 stol-myers-squibb/
URL:https://customerleadershipcouncil.com/events/customer-contact-centre-tour-bristol-myers-squibb/
END:VEVENT
END:VCALENDAR