BEGIN:VCALENDAR
VERSION:2.0
PRODID:-//eventon.com NONSGML v1.0//EN
CALSCALE:GREGORIAN
METHOD:PUBLISH
BEGIN:VEVENT
UID:69e8638943a73
DTSTAMP:20260422T055833Z
DTSTART:20211025T214500Z
DTEND:20211026T065000Z
LOCATION:JW Marriott Tucson Starr Pass Resort &amp; Spa 3800 W Starr Pass Blvd
SUMMARY:ON-SITE Annual Council Meeting
DESCRIPTION:Our 2021 Annual Council Meeting is moving forward and will be h
 eld on-site on Sunday\,  October 25th\,  at Customer Contact West. For thos
 e members unable to join us\,  we will be holding a VIRTUAL meeting to as w
 ell. The Virtual Annual Council Meeting will take place Wednesday\,  Novemb
 er 10th from[..]\nhttps://customerleadershipcouncil.com/events/annual-counc
 il-meeting-2/
URL:https://customerleadershipcouncil.com/events/annual-council-meeting-2/
END:VEVENT
END:VCALENDAR