BEGIN:VCALENDAR
VERSION:2.0
PRODID:-//eventon.com NONSGML v1.0//EN
CALSCALE:GREGORIAN
METHOD:PUBLISH
BEGIN:VEVENT
UID:69e767de81727
DTSTAMP:20260421T120446Z
DTSTART:20221116T190000Z
DTEND:20221116T200000Z
LOCATION:Remote
SUMMARY:Regenerate: Tackling Engagement and Retention Challenges Amidst a Stress Endemic
DESCRIPTION:Moderator: Andrew Deutscher\,  Founder\,  Regenerate Abstract: 
 Your team is successful when they bring their creativity and their strategi
 c thinking skills to the table.  As a leader you must find creative soluti
 ons to address the chronic stress that stymies that\,  and prevents workers
  from becoming disengaged or leaving your organization. Stress[..]\nhttps:/
 /customerleadershipcouncil.com/events/regenerate-tackling-engagement-and-re
 tention-challenges/
URL:https://customerleadershipcouncil.com/events/regenerate-tackling-engagement-and-retention-challenges/
END:VEVENT
END:VCALENDAR