BEGIN:VCALENDAR
VERSION:2.0
PRODID:-//eventon.com NONSGML v1.0//EN
CALSCALE:GREGORIAN
METHOD:PUBLISH
BEGIN:VEVENT
UID:69e4d07edbbd2
DTSTAMP:20260419T125422Z
DTSTART:20260412
DTEND:20260413
LOCATION:Fort Lauderdale Marriott Harbor Beach Resort &amp; Spa 3030 Holiday Drive
SUMMARY:22nd Annual Customer Contact East
DESCRIPTION:Delivering on Strategic Transformation and Measurable Value Cli
 ck above to check out the event website for more details.\nhttps://customer
 leadershipcouncil.com/events/22nd-annual-customer-contact-east/
URL:https://customerleadershipcouncil.com/events/22nd-annual-customer-contact-east/
END:VEVENT
END:VCALENDAR